BEGIN:VCALENDAR
VERSION:2.0
PRODID:-//Czerwona Szpilka - ECPv6.15.20//NONSGML v1.0//EN
CALSCALE:GREGORIAN
METHOD:PUBLISH
X-WR-CALNAME:Czerwona Szpilka
X-ORIGINAL-URL:https://czerwonaszpilka.pl
X-WR-CALDESC:Wydarzenia dla Czerwona Szpilka
REFRESH-INTERVAL;VALUE=DURATION:PT1H
X-Robots-Tag:noindex
X-PUBLISHED-TTL:PT1H
BEGIN:VTIMEZONE
TZID:Europe/Warsaw
BEGIN:DAYLIGHT
TZOFFSETFROM:+0100
TZOFFSETTO:+0200
TZNAME:CEST
DTSTART:20250330T010000
END:DAYLIGHT
BEGIN:STANDARD
TZOFFSETFROM:+0200
TZOFFSETTO:+0100
TZNAME:CET
DTSTART:20251026T010000
END:STANDARD
BEGIN:DAYLIGHT
TZOFFSETFROM:+0100
TZOFFSETTO:+0200
TZNAME:CEST
DTSTART:20260329T010000
END:DAYLIGHT
BEGIN:STANDARD
TZOFFSETFROM:+0200
TZOFFSETTO:+0100
TZNAME:CET
DTSTART:20261025T010000
END:STANDARD
BEGIN:DAYLIGHT
TZOFFSETFROM:+0100
TZOFFSETTO:+0200
TZNAME:CEST
DTSTART:20270328T010000
END:DAYLIGHT
BEGIN:STANDARD
TZOFFSETFROM:+0200
TZOFFSETTO:+0100
TZNAME:CET
DTSTART:20271031T010000
END:STANDARD
END:VTIMEZONE
BEGIN:VEVENT
DTSTART;TZID=Europe/Warsaw:20260512T100000
DTEND;TZID=Europe/Warsaw:20260512T120000
DTSTAMP:20260424T161157
CREATED:20260221T114232Z
LAST-MODIFIED:20260407T101451Z
UID:63230-1778580000-1778587200@czerwonaszpilka.pl
SUMMARY:Inspirująca kawa
DESCRIPTION:
URL:https://czerwonaszpilka.pl/event/inspirujaca-kawa-7/
CATEGORIES:Spotkania Online,Spotkania Przestrzeni,Spotkanie dla kobiet w Programie
END:VEVENT
BEGIN:VEVENT
DTSTART;TZID=Europe/Warsaw:20260528T160000
DTEND;TZID=Europe/Warsaw:20260528T193000
DTSTAMP:20260424T161157
CREATED:20260415T171619Z
LAST-MODIFIED:20260417T182821Z
UID:63924-1779984000-1779996600@czerwonaszpilka.pl
SUMMARY:Czuję. Wiem. Decyduję. Event dla kobiet przedsiębiorczych
DESCRIPTION:Kameralny event dla Kobiet w biznesie z networkingiem PRO – Wrocław 2026\n\n\nCzuję. Wiem. Decyduję.\nTrzy obszary\, bez których zmiana się nie wydarzy. \n3 kobiety\, 3 różne perspektywy i 3 obszary\, które razem tworzą całość. Każda poprowadzi Cię przez inny etap tej drogi\, a Ty zobaczysz\, gdzie jesteś i co może być Twoim kolejnym krokiem.
URL:https://czerwonaszpilka.pl/event/czuje-wiem-decyduje/
LOCATION:AC Hotel by Marriott\, Plac Wolności 10\, Wrocław
CATEGORIES:Spotkania Offline,Spotkania otwarte
ATTACH;FMTTYPE=image/png:https://czerwonaszpilka.pl/wp-content/uploads/2026/04/event-networkingowy-Wroclaw-1.png
END:VEVENT
END:VCALENDAR