BEGIN:VCALENDAR
VERSION:2.0
PRODID:-//Czerwona Szpilka - ECPv6.15.20//NONSGML v1.0//EN
CALSCALE:GREGORIAN
METHOD:PUBLISH
X-WR-CALNAME:Czerwona Szpilka
X-ORIGINAL-URL:https://czerwonaszpilka.pl
X-WR-CALDESC:Wydarzenia dla Czerwona Szpilka
REFRESH-INTERVAL;VALUE=DURATION:PT1H
X-Robots-Tag:noindex
X-PUBLISHED-TTL:PT1H
BEGIN:VTIMEZONE
TZID:Europe/Warsaw
BEGIN:DAYLIGHT
TZOFFSETFROM:+0100
TZOFFSETTO:+0200
TZNAME:CEST
DTSTART:20250330T010000
END:DAYLIGHT
BEGIN:STANDARD
TZOFFSETFROM:+0200
TZOFFSETTO:+0100
TZNAME:CET
DTSTART:20251026T010000
END:STANDARD
BEGIN:DAYLIGHT
TZOFFSETFROM:+0100
TZOFFSETTO:+0200
TZNAME:CEST
DTSTART:20260329T010000
END:DAYLIGHT
BEGIN:STANDARD
TZOFFSETFROM:+0200
TZOFFSETTO:+0100
TZNAME:CET
DTSTART:20261025T010000
END:STANDARD
BEGIN:DAYLIGHT
TZOFFSETFROM:+0100
TZOFFSETTO:+0200
TZNAME:CEST
DTSTART:20270328T010000
END:DAYLIGHT
BEGIN:STANDARD
TZOFFSETFROM:+0200
TZOFFSETTO:+0100
TZNAME:CET
DTSTART:20271031T010000
END:STANDARD
END:VTIMEZONE
BEGIN:VEVENT
DTSTART;TZID=Europe/Warsaw:20260319T100000
DTEND;TZID=Europe/Warsaw:20260319T130000
DTSTAMP:20260424T161953
CREATED:20260227T080015Z
LAST-MODIFIED:20260312T081106Z
UID:63324-1773914400-1773925200@czerwonaszpilka.pl
SUMMARY:Glow Up Your Life Warszawa
DESCRIPTION:19 marca spotkamy się w nowej\, wyjątkowej przestrzeni\, która sprzyja kobiecym rozmowom\, celebracji i świadomym wyborom. \nBędziemy celebrować kobiecość. Bez pośpiechu. Z intencją i uważnością na siebie i inne kobiety
URL:https://czerwonaszpilka.pl/event/glow-up-your-life-dla-kobiet-warszawa/
LOCATION:I love Juice\, Aleksandra Gieysztora 2\, Wilanów\, Warszawa
CATEGORIES:Spotkania Offline,Spotkania otwarte
ATTACH;FMTTYPE=image/png:https://czerwonaszpilka.pl/wp-content/uploads/2026/02/networking-z-Czerwona-Szpilka-1.png
END:VEVENT
BEGIN:VEVENT
DTSTART;TZID=Europe/Warsaw:20260324T100000
DTEND;TZID=Europe/Warsaw:20260324T113000
DTSTAMP:20260424T161953
CREATED:20251127T175332Z
LAST-MODIFIED:20260319T102356Z
UID:62407-1774346400-1774351800@czerwonaszpilka.pl
SUMMARY:Inspirująca kawa - Sukces bez straty relacji
DESCRIPTION:Czyli\, jak nie przepraszać za to\, że coraz lepiej Ci się powodzi i jednocześnie zachować bliskie relacje z przyjaciółmi? \nZapraszam na spotkanie online\, na którym wspólnie przejdziemy przez 3 kroki\, które pozwolą Ci żyć w pełni bez ukrywania swoich postępów.
URL:https://czerwonaszpilka.pl/event/inspirujaca-kawa-5/
LOCATION:Online\, link otrzymasz mailowo\, Polska
CATEGORIES:Spotkania otwarte,Spotkania Online
ATTACH;FMTTYPE=image/jpeg:https://czerwonaszpilka.pl/wp-content/uploads/2025/11/INSPIRUJACA-KAWA-Sukces-bez-zmiany-relacji.jpg
END:VEVENT
BEGIN:VEVENT
DTSTART;TZID=Europe/Warsaw:20260326T103000
DTEND;TZID=Europe/Warsaw:20260326T133000
DTSTAMP:20260424T161953
CREATED:20260226T120921Z
LAST-MODIFIED:20260416T092112Z
UID:63288-1774521000-1774531800@czerwonaszpilka.pl
SUMMARY:Śniadanie Networkingowe Wrocław
DESCRIPTION:Już 26 marca we Wrocławiu organizujemy śniadanie networkingowe\, które może zmienić Twoje spojrzenie na biznes i relacje. To nie tylko spotkanie – to inspirujący poranek w gronie kobiet\, które rozumieją\, że otoczenie ma kluczowe znaczenie.
URL:https://czerwonaszpilka.pl/event/sniadanie-networkingowe-we-wroclawiu/
LOCATION:DoubleTree by Hilton\, Podwale 84\, Wrocław
CATEGORIES:Spotkania Offline,Spotkania otwarte
ATTACH;FMTTYPE=image/png:https://czerwonaszpilka.pl/wp-content/uploads/2026/02/networking-we-wroclawiu-2026.png
END:VEVENT
END:VCALENDAR