BEGIN:VCALENDAR
VERSION:2.0
PRODID:-//Czerwona Szpilka - ECPv6.15.20//NONSGML v1.0//EN
CALSCALE:GREGORIAN
METHOD:PUBLISH
X-ORIGINAL-URL:https://czerwonaszpilka.pl
X-WR-CALDESC:Wydarzenia dla Czerwona Szpilka
REFRESH-INTERVAL;VALUE=DURATION:PT1H
X-Robots-Tag:noindex
X-PUBLISHED-TTL:PT1H
BEGIN:VTIMEZONE
TZID:Europe/Warsaw
BEGIN:DAYLIGHT
TZOFFSETFROM:+0100
TZOFFSETTO:+0200
TZNAME:CEST
DTSTART:20250330T010000
END:DAYLIGHT
BEGIN:STANDARD
TZOFFSETFROM:+0200
TZOFFSETTO:+0100
TZNAME:CET
DTSTART:20251026T010000
END:STANDARD
BEGIN:DAYLIGHT
TZOFFSETFROM:+0100
TZOFFSETTO:+0200
TZNAME:CEST
DTSTART:20260329T010000
END:DAYLIGHT
BEGIN:STANDARD
TZOFFSETFROM:+0200
TZOFFSETTO:+0100
TZNAME:CET
DTSTART:20261025T010000
END:STANDARD
BEGIN:DAYLIGHT
TZOFFSETFROM:+0100
TZOFFSETTO:+0200
TZNAME:CEST
DTSTART:20270328T010000
END:DAYLIGHT
BEGIN:STANDARD
TZOFFSETFROM:+0200
TZOFFSETTO:+0100
TZNAME:CET
DTSTART:20271031T010000
END:STANDARD
END:VTIMEZONE
BEGIN:VEVENT
DTSTART;TZID=Europe/Warsaw:20260203T100000
DTEND;TZID=Europe/Warsaw:20260203T120000
DTSTAMP:20260424T175055
CREATED:20251127T174850Z
LAST-MODIFIED:20260123T184750Z
UID:62405-1770112800-1770120000@czerwonaszpilka.pl
SUMMARY:Inspirująca kawa - Biznesowy Detoks
DESCRIPTION:
URL:https://czerwonaszpilka.pl/event/inspirujaca-kawa-4/
CATEGORIES:Spotkania otwarte,Spotkania Online
END:VEVENT
BEGIN:VEVENT
DTSTART;TZID=Europe/Warsaw:20260210T100000
DTEND;TZID=Europe/Warsaw:20260210T130000
DTSTAMP:20260424T175055
CREATED:20250925T085718Z
LAST-MODIFIED:20251211T195316Z
UID:60903-1770717600-1770728400@czerwonaszpilka.pl
SUMMARY:Astro Śniadanie w Warszawie
DESCRIPTION:Już 10 lutego w Warszawie organizujemy śniadanie networkingowe z astrologią\, które może zmienić Twoje spojrzenie na biznes i relacje. To nie tylko spotkanie – to inspirujący poranek w gronie kobiet\, które rozumieją\, że otoczenie ma kluczowe znaczenie.
URL:https://czerwonaszpilka.pl/event/sniadanie-networkingowe/
LOCATION:Sylvia Crystal Cafe\, ul. Kazachska 1\, Warszawa\, 02-999\, Poland
CATEGORIES:Spotkania Offline,Spotkania otwarte
ATTACH;FMTTYPE=image/png:https://czerwonaszpilka.pl/wp-content/uploads/2025/09/ASTRO-sniadanie.png
END:VEVENT
BEGIN:VEVENT
DTSTART;TZID=Europe/Warsaw:20260223T180000
DTEND;TZID=Europe/Warsaw:20260223T200000
DTSTAMP:20260424T175055
CREATED:20251007T061546Z
LAST-MODIFIED:20260201T134454Z
UID:61425-1771869600-1771876800@czerwonaszpilka.pl
SUMMARY:Mistrzowska Sprzedaż
DESCRIPTION:
URL:https://czerwonaszpilka.pl/event/mistrzowska-sprzedaz-2/
CATEGORIES:Spotkania Online,Spotkania Przestrzeni,Spotkanie dla kobiet w Programie
END:VEVENT
END:VCALENDAR